BEGIN:VCALENDAR
VERSION:2.0
PRODID:-//Plone.org//NONSGML plone.app.event//EN
X-WR-TIMEZONE:Europe/Madrid
BEGIN:VEVENT
SUMMARY:Òpera: "La Flauta màgica"
DTSTART;TZID=Europe/Madrid;VALUE=DATE-TIME:20120806T190000
DTEND;TZID=Europe/Madrid;VALUE=DATE-TIME:20120806T200000
DTSTAMP;VALUE=DATE-TIME:20260424T164457Z
UID:93b0eae7b8e4151cbc2dc3a13f947d8f
CREATED;VALUE=DATE-TIME:20120806T000000Z
CATEGORIES:Música
LOCATION:Teatre Principal - C. Església, 45-47
ORGANIZER:SC.L'Esperança i la Regidoria de Cultura
COMMENT:Preu: 13&euro; anticipada,16&euro; el mateix dia
DESCRIPTION:En directe des del Festival de Salzburg
URL:https://arenysdemar.cat/document.php?id=24472
END:VEVENT
END:VCALENDAR