BEGIN:VCALENDAR
VERSION:2.0
PRODID:-//Plone.org//NONSGML plone.app.event//EN
X-WR-TIMEZONE:Europe/Madrid
BEGIN:VEVENT
SUMMARY:Concerts de Barraques 2012 a la Plaça
DTSTART;TZID=Europe/Madrid;VALUE=DATE-TIME:20120708T231500
DTEND;TZID=Europe/Madrid;VALUE=DATE-TIME:20120709T001500
DTSTAMP;VALUE=DATE-TIME:20260423T145027Z
UID:0d684781b40efb3ec248f80ca2437c25
CREATED;VALUE=DATE-TIME:20120708T000000Z
CATEGORIES:Festa
LOCATION:Plaça de l'Església - Plaça de l'Església
ORGANIZER:Regidoria de Joventut i entitats col·laboradores
URL:https://arenysdemar.cat/document.php?id=24491
END:VEVENT
END:VCALENDAR