BEGIN:VCALENDAR
VERSION:2.0
PRODID:-//Plone.org//NONSGML plone.app.event//EN
X-WR-TIMEZONE:Europe/Madrid
BEGIN:VEVENT
SUMMARY:Caça bombolles
DTSTART;TZID=Europe/Madrid;VALUE=DATE-TIME:20120616T120000
DTEND;TZID=Europe/Madrid;VALUE=DATE-TIME:20120616T130000
DTSTAMP;VALUE=DATE-TIME:20260425T225801Z
UID:feb2ecf547b5b9f64e9bf1806276e3a6
CREATED;VALUE=DATE-TIME:20120616T000000Z
CATEGORIES:Infantils
LOCATION:Plaça de l'església- Sant Elm
ORGANIZER:Ajuntament d'Arenys de mar i La Coctelera espectacles
COMMENT:Preu: Gratuit
DESCRIPTION:Espectacle itinerant- Cercavila.
URL:https://arenysdemar.cat/document.php?id=24493
END:VEVENT
END:VCALENDAR