BEGIN:VCALENDAR
VERSION:2.0
PRODID:-//Plone.org//NONSGML plone.app.event//EN
X-WR-TIMEZONE:Europe/Madrid
BEGIN:VEVENT
SUMMARY:Mercat d'Intercanvi del Banc del Temps
DTSTART;TZID=Europe/Madrid;VALUE=DATE-TIME:20120609T100000
DTEND;TZID=Europe/Madrid;VALUE=DATE-TIME:20120609T110000
DTSTAMP;VALUE=DATE-TIME:20260426T010009Z
UID:2b9156c8a0dcb76376416c8fdaea76b9
CREATED;VALUE=DATE-TIME:20120609T000000Z
CATEGORIES:Exposició,Mostra,Festa
LOCATION:Pati del C.C.Calisay - Riera del Pare Fita, 31
ORGANIZER:Banc del Temps
COMMENT:Durada: Tot el matí (fins a les 14 hores aprox.)
URL:https://arenysdemar.cat/document.php?id=24499
END:VEVENT
END:VCALENDAR