BEGIN:VCALENDAR
VERSION:2.0
PRODID:-//Plone.org//NONSGML plone.app.event//EN
X-WR-TIMEZONE:Europe/Madrid
BEGIN:VEVENT
SUMMARY:Arenys de contes: "Locuras de amor"
DTSTART;TZID=Europe/Madrid;VALUE=DATE-TIME:20120829T220000
DTEND;TZID=Europe/Madrid;VALUE=DATE-TIME:20120829T230000
DTSTAMP;VALUE=DATE-TIME:20260424T201926Z
UID:7cbf3445c287e873de2e543ddecedb50
CREATED;VALUE=DATE-TIME:20120829T000000Z
CATEGORIES:Literatura
LOCATION:Biblioplatja - Platja de la Picòrdia
ORGANIZER:Biblioteca - Regidoria de Cultura
DESCRIPTION:a càrrec de Légolas Colectivo Escénico
URL:https://arenysdemar.cat/document.php?id=24512
END:VEVENT
END:VCALENDAR