BEGIN:VCALENDAR
VERSION:2.0
PRODID:-//Plone.org//NONSGML plone.app.event//EN
X-WR-TIMEZONE:Europe/Madrid
BEGIN:VEVENT
SUMMARY:Cicle de Cinema i Energia: "What is the electric car?"
DTSTART;TZID=Europe/Madrid;VALUE=DATE-TIME:20120606T190000
DTEND;TZID=Europe/Madrid;VALUE=DATE-TIME:20120606T200000
DTSTAMP;VALUE=DATE-TIME:20260425T230815Z
UID:bef523dce8a894a84536ba05f7cf0739
CREATED;VALUE=DATE-TIME:20120606T000000Z
CATEGORIES:Cinema
LOCATION:Auditori J.M. Arnau del C.C.Calisay - Riera del Pare Fita, 31
ORGANIZER:Regidoria de Medi Ambient
COMMENT:Preu: Entrada lliure
URL:https://arenysdemar.cat/document.php?id=24517
END:VEVENT
END:VCALENDAR