BEGIN:VCALENDAR
VERSION:2.0
PRODID:-//Plone.org//NONSGML plone.app.event//EN
X-WR-TIMEZONE:Europe/Madrid
BEGIN:VEVENT
SUMMARY:Cicle de Cinema i Energia: "A road not taken"
DTSTART;TZID=Europe/Madrid;VALUE=DATE-TIME:20120613T190000
DTEND;TZID=Europe/Madrid;VALUE=DATE-TIME:20120613T200000
DTSTAMP;VALUE=DATE-TIME:20260425T225735Z
UID:78f64b2dfb1bc81fb737e1df49717f26
CREATED;VALUE=DATE-TIME:20120613T000000Z
CATEGORIES:Cinema
LOCATION:Auditori J.M. Arnau del C.C.Calisay - Riera del Pare Fita, 31
ORGANIZER:Regidoria de Medi Ambient
COMMENT:Preu: Entrada lliure.
DESCRIPTION:Segona sessió de cinema documental sobre energies renovables.
URL:https://arenysdemar.cat/document.php?id=24534
END:VEVENT
END:VCALENDAR