BEGIN:VCALENDAR
VERSION:2.0
PRODID:-//Plone.org//NONSGML plone.app.event//EN
X-WR-TIMEZONE:Europe/Madrid
BEGIN:VEVENT
SUMMARY:Les Nits del Xifré
DTSTART;TZID=Europe/Madrid;VALUE=DATE-TIME:20120706T193000
DTEND;TZID=Europe/Madrid;VALUE=DATE-TIME:20120706T203000
DTSTAMP;VALUE=DATE-TIME:20260422T143452Z
UID:1c06392fb886794f752212113d55430f
CREATED;VALUE=DATE-TIME:20120706T000000Z
CATEGORIES:Festa
LOCATION:Jardins del Xifré
ORGANIZER:AFGAR amb la col·laboració de la regidoria Turisme
COMMENT:Durada: De 19.30 a 02.00h
DESCRIPTION:Dies 6, 7 i 8 de juliol
URL:https://arenysdemar.cat/document.php?id=24536
END:VEVENT
END:VCALENDAR