BEGIN:VCALENDAR
VERSION:2.0
PRODID:-//Plone.org//NONSGML plone.app.event//EN
X-WR-TIMEZONE:Europe/Madrid
BEGIN:VEVENT
SUMMARY:Mostra-Degustació de caves del Solstici d'Estiu
DTSTART;TZID=Europe/Madrid;VALUE=DATE-TIME:20120623T100000
DTEND;TZID=Europe/Madrid;VALUE=DATE-TIME:20120623T110000
DTSTAMP;VALUE=DATE-TIME:20260426T042807Z
UID:e17c7071cf368b80ab806625460bf8a3
CREATED;VALUE=DATE-TIME:20120623T000000Z
LOCATION:Mercat Municipal
ORGANIZER:Regidoria de Promoció Econòmica -Dinamitzadors comercials-
COMMENT:Preu: Cal tiquet per participar. El podreu adquirir amb compra mínima de 5 euros a qualsevol de les parades del Mercat.
Durada: De 10 a 14h
URL:https://arenysdemar.cat/document.php?id=24563
END:VEVENT
END:VCALENDAR