BEGIN:VCALENDAR
VERSION:2.0
PRODID:-//Plone.org//NONSGML plone.app.event//EN
X-WR-TIMEZONE:Europe/Madrid
BEGIN:VEVENT
SUMMARY:Mostra de titelles: Oiaraki. El castell dels ocells
DTSTART;TZID=Europe/Madrid;VALUE=DATE-TIME:20120819T210000
DTEND;TZID=Europe/Madrid;VALUE=DATE-TIME:20120819T220000
DTSTAMP;VALUE=DATE-TIME:20260424T164806Z
UID:4847459cbdfa00a80535eb796e807eb6
CREATED;VALUE=DATE-TIME:20120819T000000Z
CATEGORIES:Mostra
LOCATION:Plaça de l'Església - Plaça de l'Església
ORGANIZER:Regidoria de Cultura i Binixiflat Teatre
DESCRIPTION:a càrrec de Binixiflat Teatre
URL:https://arenysdemar.cat/document.php?id=24567
END:VEVENT
END:VCALENDAR