BEGIN:VCALENDAR
VERSION:2.0
PRODID:-//Plone.org//NONSGML plone.app.event//EN
X-WR-TIMEZONE:Europe/Madrid
BEGIN:VEVENT
SUMMARY:Exposició de pintura col·lectiva Dins-Fora/Viratge Klimt
DTSTART;TZID=Europe/Madrid;VALUE=DATE-TIME:20120907T180000
DTEND;TZID=Europe/Madrid;VALUE=DATE-TIME:20120907T190000
DTSTAMP;VALUE=DATE-TIME:20260425T011109Z
UID:cde6d56b222a1e64702708f7c9daf9e0
CREATED;VALUE=DATE-TIME:20120907T000000Z
CATEGORIES:Exposició
LOCATION:Sala Exposicions del C.C.Calisay - Riera del Pare Fita, 31
ORGANIZER:Regidoria de Cultura i Ateneu Arenyenc
COMMENT:Durada: fins al 30 de setembre de 2012
DESCRIPTION:a càrrec dels alumnes del Taller de Pintura de l'Ateneu Arenyenc
URL:https://arenysdemar.cat/document.php?id=24571
END:VEVENT
END:VCALENDAR