BEGIN:VCALENDAR
VERSION:2.0
PRODID:-//Plone.org//NONSGML plone.app.event//EN
X-WR-TIMEZONE:Europe/Madrid
BEGIN:VEVENT
SUMMARY:Exposició: Quilts. Retall a retall a càrrec de Mercè Cantero
DTSTART;TZID=Europe/Madrid;VALUE=DATE-TIME:20121109T180000
DTEND;TZID=Europe/Madrid;VALUE=DATE-TIME:20121109T190000
DTSTAMP;VALUE=DATE-TIME:20260425T215915Z
UID:f17b33417df548eba04f985f8b9ef8d1
CREATED;VALUE=DATE-TIME:20121109T000000Z
CATEGORIES:Exposició
LOCATION:Sala Exposicions del C.C.Calisay - Riera del Pare Fita, 31
ORGANIZER:Regidoria de Cultura
COMMENT:Durada: Fins al 2 de desembre de 2012
URL:https://arenysdemar.cat/document.php?id=24572
END:VEVENT
END:VCALENDAR