BEGIN:VCALENDAR
VERSION:2.0
PRODID:-//Plone.org//NONSGML plone.app.event//EN
X-WR-TIMEZONE:Europe/Madrid
BEGIN:VEVENT
SUMMARY:Xerrada: "Fons litorals catalans"
DTSTART;TZID=Europe/Madrid;VALUE=DATE-TIME:20120807T203000
DTEND;TZID=Europe/Madrid;VALUE=DATE-TIME:20120807T213000
DTSTAMP;VALUE=DATE-TIME:20260424T164124Z
UID:2849108f26f2027ee653f034811a2bfc
CREATED;VALUE=DATE-TIME:20120807T000000Z
LOCATION:Biblioplatja - Platja de la Picòrdia
ORGANIZER:Voluntariat del Alt Maresme de Medi Ambient (VAMMA) i Regidoria de Medi Ambient
COMMENT:Preu: Entrada lliure
URL:https://arenysdemar.cat/document.php?id=24595
END:VEVENT
END:VCALENDAR