BEGIN:VCALENDAR
VERSION:2.0
PRODID:-//Plone.org//NONSGML plone.app.event//EN
X-WR-TIMEZONE:Europe/Madrid
BEGIN:VEVENT
SUMMARY:Presentació de la novel·la : Bon cop de falç! amb els seus autors Ramon Gasch i Andreu González
DTSTART;TZID=Europe/Madrid;VALUE=DATE-TIME:20121011T193000
DTEND;TZID=Europe/Madrid;VALUE=DATE-TIME:20121011T203000
DTSTAMP;VALUE=DATE-TIME:20260425T200224Z
UID:d269ed9f84a34210785694b8c104c1fb
CREATED;VALUE=DATE-TIME:20121011T000000Z
CATEGORIES:Literatura
LOCATION:Sala Noble del C.C.Calisay - Riera Pare Fita, 31
ORGANIZER:Plataforma per la Llengua
DESCRIPTION:Una novel·la fascinant sobre la Guerra dels Segadors. Premi Nèstor Luján de Novel·la Històrica
URL:https://arenysdemar.cat/document.php?id=24596
END:VEVENT
END:VCALENDAR