BEGIN:VCALENDAR
VERSION:2.0
PRODID:-//Plone.org//NONSGML plone.app.event//EN
X-WR-TIMEZONE:Europe/Madrid
BEGIN:VEVENT
SUMMARY:Inici de la temporada de l´Hora del conte. "B.O.M. : contes de bruixes, ogres i monstres"
DTSTART;TZID=Europe/Madrid;VALUE=DATE-TIME:20120920T180000
DTEND;TZID=Europe/Madrid;VALUE=DATE-TIME:20120920T190000
DTSTAMP;VALUE=DATE-TIME:20260425T182601Z
UID:2507042aca4952f62650498dfe868e54
CREATED;VALUE=DATE-TIME:20120920T000000Z
CATEGORIES:Infantils
LOCATION:Sala d'actes de la Biblioteca - C. Bonaire, 2
ORGANIZER:Biblioteca - Regidoria de Cultura
DESCRIPTION:a càrrec de Mon Mas
URL:https://arenysdemar.cat/document.php?id=24608
END:VEVENT
END:VCALENDAR