BEGIN:VCALENDAR
VERSION:2.0
PRODID:-//Plone.org//NONSGML plone.app.event//EN
X-WR-TIMEZONE:Europe/Madrid
BEGIN:VEVENT
SUMMARY:Taller infantil: "El món marítim"
DTSTART;TZID=Europe/Madrid;VALUE=DATE-TIME:20120818T110000
DTEND;TZID=Europe/Madrid;VALUE=DATE-TIME:20120818T120000
DTSTAMP;VALUE=DATE-TIME:20260425T011418Z
UID:632cfcf671f5669f54020ed8548ae6db
CREATED;VALUE=DATE-TIME:20120818T000000Z
CATEGORIES:Infantils
LOCATION:Biblioplatja - Platja de la Picòrdia
ORGANIZER:Biblioteca - Regidoria de Cultura
DESCRIPTION:a càrrec d'Artiscle Creacions
URL:https://arenysdemar.cat/document.php?id=24673
END:VEVENT
END:VCALENDAR