BEGIN:VCALENDAR
VERSION:2.0
PRODID:-//Plone.org//NONSGML plone.app.event//EN
X-WR-TIMEZONE:Europe/Madrid
BEGIN:VEVENT
SUMMARY:Concert de Música Mediterrània
DTSTART;TZID=Europe/Madrid;VALUE=DATE-TIME:20120930T180000
DTEND;TZID=Europe/Madrid;VALUE=DATE-TIME:20120930T190000
DTSTAMP;VALUE=DATE-TIME:20260425T222826Z
UID:6b80992979d0497ba692d1e2cd210813
CREATED;VALUE=DATE-TIME:20120930T000000Z
CATEGORIES:Música
LOCATION:Auditori J.M. Arnau del C.C.Calisay - Riera del Pare Fita, 31
ORGANIZER:AFCARENYS
COMMENT:Preu: 2 &euro;
DESCRIPTION:ACTE SUSPÈS
URL:https://arenysdemar.cat/document.php?id=24686
END:VEVENT
END:VCALENDAR