BEGIN:VCALENDAR
VERSION:2.0
PRODID:-//Plone.org//NONSGML plone.app.event//EN
X-WR-TIMEZONE:Europe/Madrid
BEGIN:VEVENT
SUMMARY:Presentació del projecte Maresme Marítim
DTSTART;TZID=Europe/Madrid;VALUE=DATE-TIME:20120726T183000
DTEND;TZID=Europe/Madrid;VALUE=DATE-TIME:20120726T193000
DTSTAMP;VALUE=DATE-TIME:20260424T233515Z
UID:cb3224e531e2c12705e861fe78c29823
CREATED;VALUE=DATE-TIME:20120726T000000Z
LOCATION:Sala Noble del C.C.Calisay - Riera Pare Fita, 31
ORGANIZER:Ajuntament d'Arenys de Mar
URL:https://arenysdemar.cat/document.php?id=24694
END:VEVENT
END:VCALENDAR