BEGIN:VCALENDAR
VERSION:2.0
PRODID:-//Plone.org//NONSGML plone.app.event//EN
X-WR-TIMEZONE:Europe/Madrid
BEGIN:VEVENT
SUMMARY:Taller de daurats
DTSTART;TZID=Europe/Madrid;VALUE=DATE-TIME:20120930T110000
DTEND;TZID=Europe/Madrid;VALUE=DATE-TIME:20120930T120000
DTSTAMP;VALUE=DATE-TIME:20260426T034308Z
UID:166401c8ebcb75afda12ad5a31b57c4d
CREATED;VALUE=DATE-TIME:20120930T000000Z
LOCATION:Museu Marès de la Punta - Església, 41
ORGANIZER:Regidoria de Cultura-Museu d'Arenys de Mar
DESCRIPTION:Jornades Europees del Patrimoni 2012 a Arenys de Mar
URL:https://arenysdemar.cat/document.php?id=24711
END:VEVENT
END:VCALENDAR