BEGIN:VCALENDAR
VERSION:2.0
PRODID:-//Plone.org//NONSGML plone.app.event//EN
X-WR-TIMEZONE:Europe/Madrid
BEGIN:VEVENT
SUMMARY:Benvinguda als gegants d'Arenys
DTSTART;TZID=Europe/Madrid;VALUE=DATE-TIME:20120808T193000
DTEND;TZID=Europe/Madrid;VALUE=DATE-TIME:20120808T203000
DTSTAMP;VALUE=DATE-TIME:20260424T233351Z
UID:d1e48bdbdfa2782cb51b98466fabeb8f
CREATED;VALUE=DATE-TIME:20120808T000000Z
LOCATION:Pati del C.C.Calisay - Riera del Pare Fita, 31
DESCRIPTION:Arriben avui de Budapest!
URL:https://arenysdemar.cat/document.php?id=24785
END:VEVENT
END:VCALENDAR