BEGIN:VCALENDAR
VERSION:2.0
PRODID:-//Plone.org//NONSGML plone.app.event//EN
X-WR-TIMEZONE:Europe/Madrid
BEGIN:VEVENT
SUMMARY:Peña Folclórica Solidaria
DTSTART;TZID=Europe/Madrid;VALUE=DATE-TIME:20120909T120000
DTEND;TZID=Europe/Madrid;VALUE=DATE-TIME:20120909T130000
DTSTAMP;VALUE=DATE-TIME:20260425T181248Z
UID:313c00f06901d40f43a106149be6be67
CREATED;VALUE=DATE-TIME:20120909T000000Z
CATEGORIES:Dansa,Exposició,Mostra,Festa,Música
LOCATION:Sala Polivalent del C.C.Calisay - Riera Pare Fita, 31
ORGANIZER:Ass. Eurochilenos
DESCRIPTION:Folclore xilè i de l'amèrica llatina
URL:https://arenysdemar.cat/document.php?id=24790
END:VEVENT
END:VCALENDAR