BEGIN:VCALENDAR
VERSION:2.0
PRODID:-//Plone.org//NONSGML plone.app.event//EN
X-WR-TIMEZONE:Europe/Madrid
BEGIN:VEVENT
SUMMARY:Ball a l'Ateneu
DTSTART;TZID=Europe/Madrid;VALUE=DATE-TIME:20120922T230000
DTEND;TZID=Europe/Madrid;VALUE=DATE-TIME:20120923T000000
DTSTAMP;VALUE=DATE-TIME:20260425T182549Z
UID:2cb0eb21c23a3447987ebd96acdfaa05
CREATED;VALUE=DATE-TIME:20120922T000000Z
CATEGORIES:Festa
LOCATION:Ateneu Arenyenc
ORGANIZER:Ateneu Arenyenc
COMMENT:Preu: Socis 6&euro; , no socis 7&euro;
DESCRIPTION:amb el grup Aria
URL:https://arenysdemar.cat/document.php?id=24796
END:VEVENT
END:VCALENDAR