BEGIN:VCALENDAR
VERSION:2.0
PRODID:-//Plone.org//NONSGML plone.app.event//EN
X-WR-TIMEZONE:Europe/Madrid
BEGIN:VEVENT
SUMMARY:Hora del conte
DTSTART;TZID=Europe/Madrid;VALUE=DATE-TIME:20121004T180000
DTEND;TZID=Europe/Madrid;VALUE=DATE-TIME:20121004T190000
DTSTAMP;VALUE=DATE-TIME:20260425T180803Z
UID:f34fc7c00d27acc91c01192567276ac4
CREATED;VALUE=DATE-TIME:20121004T000000Z
CATEGORIES:Infantils
LOCATION:Sala d'actes de la Biblioteca - C. Bonaire, 2
ORGANIZER:Biblioteca - Regidoria de Cultura
DESCRIPTION:a càrrec de Bea Mella
URL:https://arenysdemar.cat/document.php?id=24801
END:VEVENT
END:VCALENDAR