BEGIN:VCALENDAR
VERSION:2.0
PRODID:-//Plone.org//NONSGML plone.app.event//EN
X-WR-TIMEZONE:Europe/Madrid
BEGIN:VEVENT
SUMMARY:Hora del conte
DTSTART;TZID=Europe/Madrid;VALUE=DATE-TIME:20121018T180000
DTEND;TZID=Europe/Madrid;VALUE=DATE-TIME:20121018T190000
DTSTAMP;VALUE=DATE-TIME:20260425T234551Z
UID:42debcc3882642b53950605753a36244
CREATED;VALUE=DATE-TIME:20121018T000000Z
CATEGORIES:Infantils
LOCATION:Sala d'actes de la Biblioteca - C. Bonaire, 2
ORGANIZER:Biblioteca - Regidoria de Cultura
DESCRIPTION:a càrrec de Carme Vera
URL:https://arenysdemar.cat/document.php?id=24803
END:VEVENT
END:VCALENDAR