BEGIN:VCALENDAR
VERSION:2.0
PRODID:-//Plone.org//NONSGML plone.app.event//EN
X-WR-TIMEZONE:Europe/Madrid
BEGIN:VEVENT
SUMMARY:Hora del conte: La castanyera
DTSTART;TZID=Europe/Madrid;VALUE=DATE-TIME:20121025T180000
DTEND;TZID=Europe/Madrid;VALUE=DATE-TIME:20121025T190000
DTSTAMP;VALUE=DATE-TIME:20260422T134733Z
UID:7764342e524f934a4fd63577b00cea2b
CREATED;VALUE=DATE-TIME:20121025T000000Z
CATEGORIES:Infantils
LOCATION:Sala d'actes de la Biblioteca - C. Bonaire, 2
ORGANIZER:Biblioteca - Regidoria de Cultura
DESCRIPTION:a càrrec de Montserrat Jordà
URL:https://arenysdemar.cat/document.php?id=24804
END:VEVENT
END:VCALENDAR