BEGIN:VCALENDAR
VERSION:2.0
PRODID:-//Plone.org//NONSGML plone.app.event//EN
X-WR-TIMEZONE:Europe/Madrid
BEGIN:VEVENT
SUMMARY:Tertúlia de novel·la: El Quadern de Noah de Nicholas Sparks
DTSTART;TZID=Europe/Madrid;VALUE=DATE-TIME:20121015T190000
DTEND;TZID=Europe/Madrid;VALUE=DATE-TIME:20121015T200000
DTSTAMP;VALUE=DATE-TIME:20260425T214818Z
UID:2d7f02fb44e0aac641eb8eecc0d2e7f8
CREATED;VALUE=DATE-TIME:20121015T000000Z
CATEGORIES:Literatura
LOCATION:Sala d'actes de la Biblioteca - C. Bonaire, 2
ORGANIZER:Biblioteca - Regidoria de Cultura
DESCRIPTION:a càrrec de Montserrat Jordà
URL:https://arenysdemar.cat/document.php?id=24805
END:VEVENT
END:VCALENDAR