BEGIN:VCALENDAR
VERSION:2.0
PRODID:-//Plone.org//NONSGML plone.app.event//EN
X-WR-TIMEZONE:Europe/Madrid
BEGIN:VEVENT
SUMMARY:Xerrada sobre la novel·la "Un tros de cel"
DTSTART;TZID=Europe/Madrid;VALUE=DATE-TIME:20120921T200000
DTEND;TZID=Europe/Madrid;VALUE=DATE-TIME:20120921T210000
DTSTAMP;VALUE=DATE-TIME:20260425T215846Z
UID:9272618260e525822fac2da4d186ea26
CREATED;VALUE=DATE-TIME:20120921T000000Z
CATEGORIES:Conferència
LOCATION:Sala d'actes de la Biblioteca - C. Bonaire, 2
ORGANIZER:Associació de dones per la Igualtat d'Arenys de Mar
DESCRIPTION:Isabel-Clara Simó ens parlarà de la seva darrera obra
URL:https://arenysdemar.cat/document.php?id=24808
END:VEVENT
END:VCALENDAR