BEGIN:VCALENDAR
VERSION:2.0
PRODID:-//Plone.org//NONSGML plone.app.event//EN
X-WR-TIMEZONE:Europe/Madrid
BEGIN:VEVENT
SUMMARY:Nomenament de Fill Adoptiu
DTSTART;TZID=Europe/Madrid;VALUE=DATE-TIME:20120910T190000
DTEND;TZID=Europe/Madrid;VALUE=DATE-TIME:20120910T200000
DTSTAMP;VALUE=DATE-TIME:20260425T215900Z
UID:d3abb32e9c12042edafecd1f39e4625b
CREATED;VALUE=DATE-TIME:20120910T000000Z
LOCATION:Teatre Principal - C. Església, 45-47
ORGANIZER:Ajuntament d'Arenys de Mar
DESCRIPTION:a Joan Aymerich i Genisans
URL:https://arenysdemar.cat/document.php?id=24811
END:VEVENT
END:VCALENDAR