BEGIN:VCALENDAR
VERSION:2.0
PRODID:-//Plone.org//NONSGML plone.app.event//EN
X-WR-TIMEZONE:Europe/Madrid
BEGIN:VEVENT
SUMMARY:VII trobada d'intercanvi de plaques de cava
DTSTART;TZID=Europe/Madrid;VALUE=DATE-TIME:20120902T100000
DTEND;TZID=Europe/Madrid;VALUE=DATE-TIME:20120902T110000
DTSTAMP;VALUE=DATE-TIME:20260424T195946Z
UID:ffc911f219ca08b7009ae950b8e4f0b9
CREATED;VALUE=DATE-TIME:20120902T000000Z
LOCATION:Sala Polivalent del C.C.Calisay - Riera Pare Fita, 31
ORGANIZER:Ass. d'Amics del Col·leccionisme d'Arenys de Mar
URL:https://arenysdemar.cat/document.php?id=24812
END:VEVENT
END:VCALENDAR