BEGIN:VCALENDAR
VERSION:2.0
PRODID:-//Plone.org//NONSGML plone.app.event//EN
X-WR-TIMEZONE:Europe/Madrid
BEGIN:VEVENT
SUMMARY:70è aniversari del CHAM
DTSTART;TZID=Europe/Madrid;VALUE=DATE-TIME:20120930T110000
DTEND;TZID=Europe/Madrid;VALUE=DATE-TIME:20120930T120000
DTSTAMP;VALUE=DATE-TIME:20260426T001022Z
UID:81f0c727b74673a07f0d9327e30812f5
CREATED;VALUE=DATE-TIME:20120930T000000Z
CATEGORIES:Esports,Festa
LOCATION:CE Fondo de les Creus - Fondo de les Creus, s/n
ORGANIZER:CHAM (Club Hoquei Arenys de Mar)
DESCRIPTION:Presentació i inici de la temporada del 70è aniversari
URL:https://arenysdemar.cat/document.php?id=24816
END:VEVENT
END:VCALENDAR