BEGIN:VCALENDAR
VERSION:2.0
PRODID:-//Plone.org//NONSGML plone.app.event//EN
X-WR-TIMEZONE:Europe/Madrid
BEGIN:VEVENT
SUMMARY:Concurs de tapes fetes amb calamar
DTSTART;TZID=Europe/Madrid;VALUE=DATE-TIME:20121020T180000
DTEND;TZID=Europe/Madrid;VALUE=DATE-TIME:20121020T190000
DTSTAMP;VALUE=DATE-TIME:20260426T011941Z
UID:f4844f266badc6d8e179bed18e3a3f6d
CREATED;VALUE=DATE-TIME:20121020T000000Z
LOCATION:Sala Polivalent del C.C.Calisay - Riera Pare Fita, 31
ORGANIZER:Regidoria de Turisme. Col·labora: AFGAR (Associació fires gastronòmiques Arenys) i Reg. Promoció econòmica
DESCRIPTION:Calamarenys 2012
URL:https://arenysdemar.cat/document.php?id=24838
END:VEVENT
END:VCALENDAR