BEGIN:VCALENDAR
VERSION:2.0
PRODID:-//Plone.org//NONSGML plone.app.event//EN
X-WR-TIMEZONE:Europe/Madrid
BEGIN:VEVENT
SUMMARY:Fira del Calamarenys
DTSTART;TZID=Europe/Madrid;VALUE=DATE-TIME:20121019T170000
DTEND;TZID=Europe/Madrid;VALUE=DATE-TIME:20121019T180000
DTSTAMP;VALUE=DATE-TIME:20260425T032301Z
UID:fd3089f500b1dd1be58fea768c4401d4
CREATED;VALUE=DATE-TIME:20121019T000000Z
CATEGORIES:Mostra
LOCATION:Sala Polivalent del C.C.Calisay - Riera Pare Fita, 31
ORGANIZER:Regidoria de Turisme. Col·labora: AFGAR (Associació fires gastronòmiques Arenys) i Reg. Promoció econòmica
COMMENT:Durada: També els dies 20 i 21 d'octubre
DESCRIPTION:També els dies 20 i 21
URL:https://arenysdemar.cat/document.php?id=24841
END:VEVENT
END:VCALENDAR