BEGIN:VCALENDAR
VERSION:2.0
PRODID:-//Plone.org//NONSGML plone.app.event//EN
X-WR-TIMEZONE:Europe/Madrid
BEGIN:VEVENT
SUMMARY:Música : Nadales d'arreu
DTSTART;TZID=Europe/Madrid;VALUE=DATE-TIME:20121223T190000
DTEND;TZID=Europe/Madrid;VALUE=DATE-TIME:20121223T200000
DTSTAMP;VALUE=DATE-TIME:20260422T064229Z
UID:733e31a4b03333ddad77ad2532354c3d
CREATED;VALUE=DATE-TIME:20121223T000000Z
CATEGORIES:Música
LOCATION:Teatre Principal - C. Església, 45-47
ORGANIZER:S.C. l'Esperança i Regidoria de Cultura
COMMENT:Preu: 5
DESCRIPTION:a càrrec de Qel Xiberta
URL:https://arenysdemar.cat/document.php?id=24884
END:VEVENT
END:VCALENDAR