BEGIN:VCALENDAR
VERSION:2.0
PRODID:-//Plone.org//NONSGML plone.app.event//EN
X-WR-TIMEZONE:Europe/Madrid
BEGIN:VEVENT
SUMMARY:Teatre familiar : Llorenç de l'àvia i la catifa voladora
DTSTART;TZID=Europe/Madrid;VALUE=DATE-TIME:20121216T180000
DTEND;TZID=Europe/Madrid;VALUE=DATE-TIME:20121216T190000
DTSTAMP;VALUE=DATE-TIME:20260426T023947Z
UID:45cbb25538b631285b002aee0fe6f742
CREATED;VALUE=DATE-TIME:20121216T000000Z
CATEGORIES:Infantils
LOCATION:Teatre Principal - C. Església, 45-47
ORGANIZER:S.C. l'Esperança i Regidoria de Cultura
COMMENT:Preu: 5
DESCRIPTION:a càrrec de Cia. La Pera Llimonera
URL:https://arenysdemar.cat/document.php?id=24885
END:VEVENT
END:VCALENDAR