BEGIN:VCALENDAR
VERSION:2.0
PRODID:-//Plone.org//NONSGML plone.app.event//EN
X-WR-TIMEZONE:Europe/Madrid
BEGIN:VEVENT
SUMMARY:Música : El cuplet català
DTSTART;TZID=Europe/Madrid;VALUE=DATE-TIME:20121202T190000
DTEND;TZID=Europe/Madrid;VALUE=DATE-TIME:20121202T200000
DTSTAMP;VALUE=DATE-TIME:20260422T121346Z
UID:1ee1fcdb3103a5f046e5aca591efad7f
CREATED;VALUE=DATE-TIME:20121202T000000Z
CATEGORIES:Música
LOCATION:Teatre Principal - C. Església, 45-47
ORGANIZER:S.C. l'Esperança
COMMENT:Preu: 7
DESCRIPTION:a càrrec de Betzuca
URL:https://arenysdemar.cat/document.php?id=24887
END:VEVENT
END:VCALENDAR