BEGIN:VCALENDAR
VERSION:2.0
PRODID:-//Plone.org//NONSGML plone.app.event//EN
X-WR-TIMEZONE:Europe/Madrid
BEGIN:VEVENT
SUMMARY:Música : Orlando
DTSTART;TZID=Europe/Madrid;VALUE=DATE-TIME:20121124T204500
DTEND;TZID=Europe/Madrid;VALUE=DATE-TIME:20121124T214500
DTSTAMP;VALUE=DATE-TIME:20260421T131307Z
UID:fad38c2743ea30e174d029f17a0ca677
CREATED;VALUE=DATE-TIME:20121124T000000Z
CATEGORIES:Música
LOCATION:Teatre Principal - C. Església, 45-47
ORGANIZER:S.C. l'Esperança i Regidoria de Cultura
COMMENT:Preu: 7
DESCRIPTION:a càrrec de Névoa
URL:https://arenysdemar.cat/document.php?id=24889
END:VEVENT
END:VCALENDAR