BEGIN:VCALENDAR
VERSION:2.0
PRODID:-//Plone.org//NONSGML plone.app.event//EN
X-WR-TIMEZONE:Europe/Madrid
BEGIN:VEVENT
SUMMARY:Ball a l'Ateneu
DTSTART;TZID=Europe/Madrid;VALUE=DATE-TIME:20121013T230000
DTEND;TZID=Europe/Madrid;VALUE=DATE-TIME:20121014T000000
DTSTAMP;VALUE=DATE-TIME:20260425T233251Z
UID:19c4ab5776e3a04c130c05bd762dbbe6
CREATED;VALUE=DATE-TIME:20121013T000000Z
CATEGORIES:Festa
LOCATION:Ateneu Arenyenc
ORGANIZER:Ateneu Arenyenc
COMMENT:Preu: Socis 6&euro;, No Socis 7&euro;
DESCRIPTION:amb el grup Domino
URL:https://arenysdemar.cat/document.php?id=24895
END:VEVENT
END:VCALENDAR