BEGIN:VCALENDAR
VERSION:2.0
PRODID:-//Plone.org//NONSGML plone.app.event//EN
X-WR-TIMEZONE:Europe/Madrid
BEGIN:VEVENT
SUMMARY:Concert-Ball de Moncho
DTSTART;TZID=Europe/Madrid;VALUE=DATE-TIME:20121027T230000
DTEND;TZID=Europe/Madrid;VALUE=DATE-TIME:20121028T000000
DTSTAMP;VALUE=DATE-TIME:20260425T214859Z
UID:0de65221024c0967cd1cb1605423f449
CREATED;VALUE=DATE-TIME:20121027T000000Z
CATEGORIES:Música
LOCATION:Ateneu Arenyenc
ORGANIZER:Ateneu Arenyenc
COMMENT:Preu: Socis 15&euro;, no socis 20&euro;
DESCRIPTION:Actuació a l'Ateneu Arenyenc del rei del bolero
URL:https://arenysdemar.cat/document.php?id=24898
END:VEVENT
END:VCALENDAR