BEGIN:VCALENDAR
VERSION:2.0
PRODID:-//Plone.org//NONSGML plone.app.event//EN
X-WR-TIMEZONE:Europe/Madrid
BEGIN:VEVENT
SUMMARY:Ballada de Swing
DTSTART;TZID=Europe/Madrid;VALUE=DATE-TIME:20120922T120000
DTEND;TZID=Europe/Madrid;VALUE=DATE-TIME:20120922T130000
DTSTAMP;VALUE=DATE-TIME:20260425T200945Z
UID:a2515127007029038240778a3cc9a17d
CREATED;VALUE=DATE-TIME:20120922T000000Z
CATEGORIES:Dansa
LOCATION:Plaça de l'Església - Plaça de l'Església
ORGANIZER:Escola Marenyswingers
COMMENT:Preu: Gratuït
Durada: Fins les 14h
DESCRIPTION:A la placeta d'Arenys de Mar
URL:https://arenysdemar.cat/document.php?id=24909
END:VEVENT
END:VCALENDAR