BEGIN:VCALENDAR
VERSION:2.0
PRODID:-//Plone.org//NONSGML plone.app.event//EN
X-WR-TIMEZONE:Europe/Madrid
BEGIN:VEVENT
SUMMARY:Conferència: La mort a la cultura popular
DTSTART;TZID=Europe/Madrid;VALUE=DATE-TIME:20121016T180000
DTEND;TZID=Europe/Madrid;VALUE=DATE-TIME:20121016T190000
DTSTAMP;VALUE=DATE-TIME:20260426T043706Z
UID:fe1095c9f8f34323b5d2aba85583827b
CREATED;VALUE=DATE-TIME:20121016T000000Z
CATEGORIES:Conferència
LOCATION:Auditori J.M. Arnau del C.C.Calisay - Riera del Pare Fita, 31
ORGANIZER:Aula d'Extensió Universitària
DESCRIPTION:a càrrec de Joan Soler Amigó, pedagog i escriptor
URL:https://arenysdemar.cat/document.php?id=24912
END:VEVENT
END:VCALENDAR