BEGIN:VCALENDAR
VERSION:2.0
PRODID:-//Plone.org//NONSGML plone.app.event//EN
X-WR-TIMEZONE:Europe/Madrid
BEGIN:VEVENT
SUMMARY:Taller de receptes amb fruita
DTSTART;TZID=Europe/Madrid;VALUE=DATE-TIME:20121005T173000
DTEND;TZID=Europe/Madrid;VALUE=DATE-TIME:20121005T183000
DTSTAMP;VALUE=DATE-TIME:20260426T013741Z
UID:760e738b028e343e60e1d1f22c5de56c
CREATED;VALUE=DATE-TIME:20121005T000000Z
LOCATION:Espai Jove del C.C.Calisay - Riera del Pare Fita, 31
ORGANIZER:Regidoria de Joventut
DESCRIPTION:Aprofita i menja fruita del temps!
URL:https://arenysdemar.cat/document.php?id=24922
END:VEVENT
END:VCALENDAR