BEGIN:VCALENDAR
VERSION:2.0
PRODID:-//Plone.org//NONSGML plone.app.event//EN
X-WR-TIMEZONE:Europe/Madrid
BEGIN:VEVENT
SUMMARY:Taller: Dibuixa Manga!
DTSTART;TZID=Europe/Madrid;VALUE=DATE-TIME:20121013T170000
DTEND;TZID=Europe/Madrid;VALUE=DATE-TIME:20121013T180000
DTSTAMP;VALUE=DATE-TIME:20260425T002617Z
UID:02489659059f447110631d5e040a38a8
CREATED;VALUE=DATE-TIME:20121013T000000Z
CATEGORIES:Cursos
LOCATION:Espai Jove del C.C.Calisay - Riera del Pare Fita, 31
ORGANIZER:Regidoria de Joventut
DESCRIPTION:Vine a dibuixar l'estil manga a l'Espai Jove
URL:https://arenysdemar.cat/document.php?id=24924
END:VEVENT
END:VCALENDAR