BEGIN:VCALENDAR
VERSION:2.0
PRODID:-//Plone.org//NONSGML plone.app.event//EN
X-WR-TIMEZONE:Europe/Madrid
BEGIN:VEVENT
SUMMARY:Conferència: Qui guanya i qui perd amb la crisi?
DTSTART;TZID=Europe/Madrid;VALUE=DATE-TIME:20121004T183000
DTEND;TZID=Europe/Madrid;VALUE=DATE-TIME:20121004T193000
DTSTAMP;VALUE=DATE-TIME:20260425T180829Z
UID:b267535e7dc8e62f45f05f5286cdb799
CREATED;VALUE=DATE-TIME:20121004T000000Z
CATEGORIES:Conferència
LOCATION:Sala Noble del C.C.Calisay - Riera Pare Fita, 31
ORGANIZER:Aula d'Extensió Universitària
DESCRIPTION:A càrrec d'Esther Vivas, del Centre d' Estudis sobre Moviments Socials de la Universitat Pompeu Fabra
URL:https://arenysdemar.cat/document.php?id=24928
END:VEVENT
END:VCALENDAR