BEGIN:VCALENDAR
VERSION:2.0
PRODID:-//Plone.org//NONSGML plone.app.event//EN
X-WR-TIMEZONE:Europe/Madrid
BEGIN:VEVENT
SUMMARY:Hora del conte
DTSTART;TZID=Europe/Madrid;VALUE=DATE-TIME:20121108T180000
DTEND;TZID=Europe/Madrid;VALUE=DATE-TIME:20121108T190000
DTSTAMP;VALUE=DATE-TIME:20260425T215800Z
UID:8a6e45a3b0b544a1243dd2a5d4b372ce
CREATED;VALUE=DATE-TIME:20121108T000000Z
CATEGORIES:Infantils
LOCATION:Sala d'actes de la Biblioteca - C. Bonaire, 2
ORGANIZER:Biblioteca - Regidoria de Cultura
DESCRIPTION:a càrrec de Bea Mella
URL:https://arenysdemar.cat/document.php?id=24966
END:VEVENT
END:VCALENDAR