BEGIN:VCALENDAR
VERSION:2.0
PRODID:-//Plone.org//NONSGML plone.app.event//EN
X-WR-TIMEZONE:Europe/Madrid
BEGIN:VEVENT
SUMMARY:Trobada Comarcal de gegants
DTSTART;TZID=Europe/Madrid;VALUE=DATE-TIME:20121111T110000
DTEND;TZID=Europe/Madrid;VALUE=DATE-TIME:20121111T120000
DTSTAMP;VALUE=DATE-TIME:20260425T214929Z
UID:64f61f3325b87e583aead767ff8fccbb
CREATED;VALUE=DATE-TIME:20121111T000000Z
CATEGORIES:Festa
LOCATION:Caldes d'Estrac
ORGANIZER:Associació de Geganters d'Arenys de Mar
DESCRIPTION:Elecció de l'hereu a Caldes d'Estrach
URL:https://arenysdemar.cat/document.php?id=25038
END:VEVENT
END:VCALENDAR