BEGIN:VCALENDAR
VERSION:2.0
PRODID:-//Plone.org//NONSGML plone.app.event//EN
X-WR-TIMEZONE:Europe/Madrid
BEGIN:VEVENT
SUMMARY:XXI Trobada de gegants 2012
DTSTART;TZID=Europe/Madrid;VALUE=DATE-TIME:20121007T121500
DTEND;TZID=Europe/Madrid;VALUE=DATE-TIME:20121007T131500
DTSTAMP;VALUE=DATE-TIME:20260425T233122Z
UID:79376de88d24369e5efddb6f16a0d3d8
CREATED;VALUE=DATE-TIME:20121007T000000Z
CATEGORIES:Festa
LOCATION:a Ripollet
ORGANIZER:Associació de Geganters d'Arenys de Mar
DESCRIPTION:Els nostres gegants se'n van a Ripollet
URL:https://arenysdemar.cat/document.php?id=25040
END:VEVENT
END:VCALENDAR