BEGIN:VCALENDAR
VERSION:2.0
PRODID:-//Plone.org//NONSGML plone.app.event//EN
X-WR-TIMEZONE:Europe/Madrid
BEGIN:VEVENT
SUMMARY:Sessió informativa : L'emocionant adolescència. Joves al volant
DTSTART;TZID=Europe/Madrid;VALUE=DATE-TIME:20121008T193000
DTEND;TZID=Europe/Madrid;VALUE=DATE-TIME:20121008T203000
DTSTAMP;VALUE=DATE-TIME:20260426T012554Z
UID:14bffb12fda0048ef20ee356d9853c56
CREATED;VALUE=DATE-TIME:20121008T000000Z
CATEGORIES:Cursos
LOCATION:Institut Els Tres Turons
ORGANIZER:Institut Tres Turons i Ampa
DESCRIPTION:Educació per a la mobilitat
URL:https://arenysdemar.cat/document.php?id=25042
END:VEVENT
END:VCALENDAR