BEGIN:VCALENDAR
VERSION:2.0
PRODID:-//Plone.org//NONSGML plone.app.event//EN
X-WR-TIMEZONE:Europe/Madrid
BEGIN:VEVENT
SUMMARY:Ball a l'Ateneu
DTSTART;TZID=Europe/Madrid;VALUE=DATE-TIME:20121110T230000
DTEND;TZID=Europe/Madrid;VALUE=DATE-TIME:20121111T000000
DTSTAMP;VALUE=DATE-TIME:20260425T234630Z
UID:8c88d4a236321f5a857a5ef3e47d9107
CREATED;VALUE=DATE-TIME:20121110T000000Z
CATEGORIES:Música
LOCATION:Sala ball de l'Ateneu Arenyenc
ORGANIZER:Ateneu Arenyenc
COMMENT:Preu: Socis 6 , no socis 7 
DESCRIPTION:amenitzat per So Magic Grup
URL:https://arenysdemar.cat/document.php?id=25057
END:VEVENT
END:VCALENDAR