BEGIN:VCALENDAR
VERSION:2.0
PRODID:-//Plone.org//NONSGML plone.app.event//EN
X-WR-TIMEZONE:Europe/Madrid
BEGIN:VEVENT
SUMMARY:Conferència : Mitjans de comunicació i crisi
DTSTART;TZID=Europe/Madrid;VALUE=DATE-TIME:20121108T183000
DTEND;TZID=Europe/Madrid;VALUE=DATE-TIME:20121108T193000
DTSTAMP;VALUE=DATE-TIME:20260425T220806Z
UID:f9be76a4cd78c1bcd94c79da802de34c
CREATED;VALUE=DATE-TIME:20121108T000000Z
CATEGORIES:Conferència
LOCATION:Sala Noble del C.C.Calisay - Riera Pare Fita, 31
ORGANIZER:Aula d'Extensió Universitària
DESCRIPTION:a càrrec de Marià de Delàs, periodista de Público
URL:https://arenysdemar.cat/document.php?id=25068
END:VEVENT
END:VCALENDAR