BEGIN:VCALENDAR
VERSION:2.0
PRODID:-//Plone.org//NONSGML plone.app.event//EN
X-WR-TIMEZONE:Europe/Madrid
BEGIN:VEVENT
SUMMARY:Projecció de la pel·lícula : Arrugues
DTSTART;TZID=Europe/Madrid;VALUE=DATE-TIME:20121019T193000
DTEND;TZID=Europe/Madrid;VALUE=DATE-TIME:20121019T203000
DTSTAMP;VALUE=DATE-TIME:20260425T201044Z
UID:720ff09fbaa148bf32d8abbf1e20ae80
CREATED;VALUE=DATE-TIME:20121019T000000Z
CATEGORIES:Cinema
LOCATION:Auditori J.M. Arnau del C.C.Calisay - Riera del Pare Fita, 31
ORGANIZER:Regidoria de la Gent Gran
COMMENT:Preu: Donatiu voluntari
DESCRIPTION:Amb motiu del mes de la Diada de la Gent Gran
URL:https://arenysdemar.cat/document.php?id=25085
END:VEVENT
END:VCALENDAR